BEGIN:VCALENDAR
VERSION:2.0
PRODID:-//Carolina Chiropractors - ECPv6.15.16//NONSGML v1.0//EN
CALSCALE:GREGORIAN
METHOD:PUBLISH
X-ORIGINAL-URL:https://carolinachiropractors.org
X-WR-CALDESC:Events for Carolina Chiropractors
REFRESH-INTERVAL;VALUE=DURATION:PT1H
X-Robots-Tag:noindex
X-PUBLISHED-TTL:PT1H
BEGIN:VTIMEZONE
TZID:America/New_York
BEGIN:DAYLIGHT
TZOFFSETFROM:-0500
TZOFFSETTO:-0400
TZNAME:EDT
DTSTART:20240310T070000
END:DAYLIGHT
BEGIN:STANDARD
TZOFFSETFROM:-0400
TZOFFSETTO:-0500
TZNAME:EST
DTSTART:20241103T060000
END:STANDARD
BEGIN:DAYLIGHT
TZOFFSETFROM:-0500
TZOFFSETTO:-0400
TZNAME:EDT
DTSTART:20250309T070000
END:DAYLIGHT
BEGIN:STANDARD
TZOFFSETFROM:-0400
TZOFFSETTO:-0500
TZNAME:EST
DTSTART:20251102T060000
END:STANDARD
BEGIN:DAYLIGHT
TZOFFSETFROM:-0500
TZOFFSETTO:-0400
TZNAME:EDT
DTSTART:20260308T070000
END:DAYLIGHT
BEGIN:STANDARD
TZOFFSETFROM:-0400
TZOFFSETTO:-0500
TZNAME:EST
DTSTART:20261101T060000
END:STANDARD
END:VTIMEZONE
BEGIN:VEVENT
DTSTART;TZID=America/New_York:20250809T110000
DTEND;TZID=America/New_York:20250809T130000
DTSTAMP:20260421T075814
CREATED:20250619T201503Z
LAST-MODIFIED:20250711T153754Z
UID:14974-1754737200-1754744400@carolinachiropractors.org
SUMMARY:2025 Membership Meeting
DESCRIPTION:The annual business meeting for nominations and elections for Carolina Chiropractors Board Members will be held on August 9th\, at 11:00a\, in Salisbury\, NC (venue details below). \nThis meeting will be open to all current members of the Carolina Chiropractors who are in good standing as of August 2025. \nTo be nominated and/or elected your dues will need to be current.  All of our members are invited to attend and lend your voice to how our organization will be led\, the issues facing chiropractic in the coming year\, and how we can best advocate for you\, your colleagues\, and our profession while we maintain our mission to advance the field of chiropractic in North Carolina.
URL:https://carolinachiropractors.org/course/2025-membership-meeting/
LOCATION:Country Club of Salisbury\, 747 Club Dr\, Salisbury\, 28144
CATEGORIES:Events,Meetings
ATTACH;FMTTYPE=image/jpeg:https://carolinachiropractors.org/wp-content/uploads/2022/12/Youtube-Channel-Art.jpg
END:VEVENT
END:VCALENDAR