BEGIN:VCALENDAR
VERSION:2.0
PRODID:-//Carolina Chiropractors - ECPv6.15.16//NONSGML v1.0//EN
CALSCALE:GREGORIAN
METHOD:PUBLISH
X-WR-CALNAME:Carolina Chiropractors
X-ORIGINAL-URL:https://carolinachiropractors.org
X-WR-CALDESC:Events for Carolina Chiropractors
REFRESH-INTERVAL;VALUE=DURATION:PT1H
X-Robots-Tag:noindex
X-PUBLISHED-TTL:PT1H
BEGIN:VTIMEZONE
TZID:America/New_York
BEGIN:DAYLIGHT
TZOFFSETFROM:-0500
TZOFFSETTO:-0400
TZNAME:EDT
DTSTART:20230312T070000
END:DAYLIGHT
BEGIN:STANDARD
TZOFFSETFROM:-0400
TZOFFSETTO:-0500
TZNAME:EST
DTSTART:20231105T060000
END:STANDARD
BEGIN:DAYLIGHT
TZOFFSETFROM:-0500
TZOFFSETTO:-0400
TZNAME:EDT
DTSTART:20240310T070000
END:DAYLIGHT
BEGIN:STANDARD
TZOFFSETFROM:-0400
TZOFFSETTO:-0500
TZNAME:EST
DTSTART:20241103T060000
END:STANDARD
BEGIN:DAYLIGHT
TZOFFSETFROM:-0500
TZOFFSETTO:-0400
TZNAME:EDT
DTSTART:20250309T070000
END:DAYLIGHT
BEGIN:STANDARD
TZOFFSETFROM:-0400
TZOFFSETTO:-0500
TZNAME:EST
DTSTART:20251102T060000
END:STANDARD
END:VTIMEZONE
BEGIN:VEVENT
DTSTART;TZID=America/New_York:20240608T090000
DTEND;TZID=America/New_York:20240608T160000
DTSTAMP:20260424T043240
CREATED:20240604T212546Z
LAST-MODIFIED:20240604T213049Z
UID:14703-1717837200-1717862400@carolinachiropractors.org
SUMMARY:CCA Level I Certification
DESCRIPTION:June 2024 Didactic Class & Exams\nNote: All links to related information will open in a new tab/window.\nInstructor: Dr. Robert Metcalf\, DC\nBe sure you have completed all of the following prerequisites:\n\nSubmit your completed application\, supporting documents\, and application fee to the NC Board of Chiropractic Examiners.\n\nThis needs to be completed no later than no later than June 1\, 2024.\nAll of the items indicated are a requirement for board certification.\nThis must be completed and submitted directly to the NCBOCE by each applicant.\nClick here to visit the NCBOCE’s websites for further details and instructions.\n\n\n\n\n\n\nComplete all 18-hours of online learning via our online training platform.\n\nThis needs to be completed no later than no later than June  7\, 2024.\nExams are proctored online by the NCBOCE and will be scheduled for each applicant following the successful completion of the above prerequisites.\n\n\n\n\n\nCarolina Chiropractors is recognized by the PACE program of the Federation of Chiropractic Licensing Boards. \nRSVP BELOW:\nPlease enable JavaScript in your browser to complete this form.EligibilityPlease check to indicate that you have completed each requirement. If you have not yet completed these items\, please do so before submitting this registration form.NCBOCE Application *Submitted your application to the NC Board of Chiropractic Examiners for certification at https://ncchiroboard.com/certified-chiropractic-assistant/--\nPlease make sure you have completed this required step at the NCBOCE's website. This needs to be completed no later than 15-days prior to the exam (which is generally 7-14 days after the didactic class date). \nIf you have any questions or need assistance with the NCBOCE application\, please get in touch with them directly. See https://ncchiroboard.com/certified-chiropractic-assistant/ for details.Completed Online Coursework *I have completed all 18-hours of the online coursework 100%.I have not yet completed the coursework\, but I am certain I will finish prior to March 2\, 2024.Attending Classroom Session: *Saturday\, June 8 from 9:00a to 4:00p in  Salisbury\, NCDetails for this classroom session can be found at https://carolinachiropractors.org/course/cca24-summer/.\n\nContact InformationName *FirstMiddleLastSuffixEmail *Phone *Address *Address Line 1Address Line 2City--- Select state ---AlabamaAlaskaArizonaArkansasCaliforniaColoradoConnecticutDelawareDistrict of ColumbiaFloridaGeorgiaHawaiiIdahoIllinoisIndianaIowaKansasKentuckyLouisianaMaineMarylandMassachusettsMichiganMinnesotaMississippiMissouriMontanaNebraskaNevadaNew HampshireNew JerseyNew MexicoNew YorkNorth CarolinaNorth DakotaOhioOklahomaOregonPennsylvaniaRhode IslandSouth CarolinaSouth DakotaTennesseeTexasUtahVermontVirginiaWashingtonWest VirginiaWisconsinWyomingStateZip CodePractice InformationPractice/DC Name *Carolina Chiropractors Membership *UnsureUnsureMemberNon-MemberPlease indicate if your employer is a member of Carolina Chiropractors.Submit  \n\nThis course has been sponsored by Life University.
URL:https://carolinachiropractors.org/course/cca24-summer/
LOCATION:Nelson & Nelson\, 3202 N Main Street\, Hope Mills\, NC\, 28348\, United States
CATEGORIES:Exam Dates,In-Person Classes,Training Courses
ATTACH;FMTTYPE=image/jpeg:https://carolinachiropractors.org/wp-content/uploads/2022/05/Flyer_ca-cert-scaled-e1660358786819.jpg
ORGANIZER;CN="Carolina Chiropractors":MAILTO:info@carolinachiropractors.org
END:VEVENT
BEGIN:VEVENT
DTSTART;TZID=America/New_York:20240615T080000
DTEND;TZID=America/New_York:20240615T180000
DTSTAMP:20260424T043240
CREATED:20240314T215005Z
LAST-MODIFIED:20240603T234036Z
UID:14634-1718438400-1718474400@carolinachiropractors.org
SUMMARY:Learn it to Earn it! Lower Extremity Dysfunction and LBP
DESCRIPTION:Mastery level training from Dr Mally and earn 10 CEs\nAttendees will learn the skillful art of palpation and correction of the most common conditions\, injuries and syndromes of the foot/ankle knee and hip. \n \nCo-sponsored by Extremity Experts Academy\, Mally Enterprises and the Carolina Chiropractors Association. \nCourse Objective: Learn normal vs abnormal anatomy\, biomechanics and physics of various lower extremity complaints (foot/knee/hip) contributing to LBP. Often misdiagnosed\, LBP can be the result of faulty foot/knee/hip biomechanics and structural leg length anomalies. Overlooked by practitioners is the true measured anatomical leg length. Dr Mally reviews the literature that dispels the myth and quandary surrounding anatomical vs functional short leg. Dr Mally also reveals his research over thousands of cases with an emphasis on congenital leg length morphology. Learn the “missing link” why many LBP sufferers outcomes are recalcitrant (chronic) from history intake\, clinical examination\, radiology and demonstrations. Dr. Mally discloses time-tested and proven x-ray techniques with pre-post comparative views and testimonials from a compilation of countless case studies. Also\, Dr. Mally features “live” demonstrations of his authentic lower extremity manipulation techniques contributing to LBP. \nStatement of Purpose: LBP accounts for a tremendous battlefield for practitioners and a field of agony for the patient\, emotionally\, financially and physically. This class arms the doctor with evidence-based science and research to be better equipped with proven radiologic and adjusting technique protocols to accurately assess and correct lower extremity (foot/knee/hip) causation\, as well as leg length morphology contributing to LBP. Dr. Mally provides the information for precise diagnostic and delivers “live” treatment options afforded the patient. \nOverview of Course: This course enhances a better understanding of presented lower extremity biomechanics\, plus diagnostic and treatment options for major overlooked contributors of LBP. Additionally\, Dr. Mally presents case studies discussing pre and/or post-operative arthroplasty of the knee and/or hip and its contribution to chronic LBP. Attendees implementing this powerful information and procedures can make a profound difference for otherwise untold pain and suffering. Utilizing said diagnostic and manipulation procedures can reduce chronicity and erroneous results often requiring additional care including more costly surgery\, physiotherapy and rehabilitation. Attendees will learn how to prevent as well as manage after the fact additional joint replacements\, revisions and sequelae that are frequented resulting in chronification of outcomes\, otherwise confusing to many practitioners and ultimately affecting the patient. \nCourse Outline: \n*Note: presentation is multimedia with ppt presentations\, video\, and live demonstrations (10CEs) \n\nIntroduction to Foot/Knee/Hip and its Effect on LBP (1hr)\nClinical Sciences and Biomechanics (30mins)\nPathomechanics (30mins)\nLower Extremity Examination (Foot/Knee/Hip) (2hr)\nX-rays & Case Studies (30mins)\nDifferential Diagnoses (30mins)\nLive demonstrations and Technique Workshop (4hr)\nLeg Length Discussion (30mins)\nQ & A (30mins)\n\nCarolina Chiropractors is recognized by the PACE program of the Federation of Chiropractic Licensing Boards. \n\n  \nNearby Accommodations\nHilton Garden Inn Wilmington Mayfaire Town Center\nThe Hilton Garden Inn is a 3-star hotel\, room rates as of May 22\, 2024 for the night of June 15\, 2024  were $221-$232 via Google Maps. \n\nLinks\n\nHotel Website\nGoogle Maps\n\n\nAddress & Contact Info\n\n6745 Rock Spring Rd\, Wilmington\, NC 28405\n(910) 509-4046\n\n\n\n\nSpringHill Suites Wilmington Mayfaire\n\nSpringHill Suites Wilmington Mayfaire is a 3-star hotel\, room rates as of May 22\, 2024 for the night of June 15\, 2024  were $223-$289 via Google Maps. \n\nLinks\n\nHotel Website\nGoogle Maps\n\n\nAddress & Contact Info\n\n1014 Ashes Dr\, Wilmington\, NC 28405\n(910) 239-9975
URL:https://carolinachiropractors.org/course/learn-it-to-earn-it/
LOCATION:Ogden Family Chiropractic\, 6624 Gordon Road\, Ste A\, Wilmington\, NC\, 28411\, United States
CATEGORIES:Events,Seminars
ATTACH;FMTTYPE=image/jpeg:https://carolinachiropractors.org/wp-content/uploads/2024/03/P1250265.jpg
ORGANIZER;CN="Carolina Chiropractors":MAILTO:info@carolinachiropractors.org
END:VEVENT
END:VCALENDAR