BEGIN:VCALENDAR
VERSION:2.0
PRODID:-//Carolina Chiropractors - ECPv6.15.16//NONSGML v1.0//EN
CALSCALE:GREGORIAN
METHOD:PUBLISH
X-WR-CALNAME:Carolina Chiropractors
X-ORIGINAL-URL:https://carolinachiropractors.org
X-WR-CALDESC:Events for Carolina Chiropractors
REFRESH-INTERVAL;VALUE=DURATION:PT1H
X-Robots-Tag:noindex
X-PUBLISHED-TTL:PT1H
BEGIN:VTIMEZONE
TZID:America/New_York
BEGIN:DAYLIGHT
TZOFFSETFROM:-0500
TZOFFSETTO:-0400
TZNAME:EDT
DTSTART:20240310T070000
END:DAYLIGHT
BEGIN:STANDARD
TZOFFSETFROM:-0400
TZOFFSETTO:-0500
TZNAME:EST
DTSTART:20241103T060000
END:STANDARD
BEGIN:DAYLIGHT
TZOFFSETFROM:-0500
TZOFFSETTO:-0400
TZNAME:EDT
DTSTART:20250309T070000
END:DAYLIGHT
BEGIN:STANDARD
TZOFFSETFROM:-0400
TZOFFSETTO:-0500
TZNAME:EST
DTSTART:20251102T060000
END:STANDARD
BEGIN:DAYLIGHT
TZOFFSETFROM:-0500
TZOFFSETTO:-0400
TZNAME:EDT
DTSTART:20260308T070000
END:DAYLIGHT
BEGIN:STANDARD
TZOFFSETFROM:-0400
TZOFFSETTO:-0500
TZNAME:EST
DTSTART:20261101T060000
END:STANDARD
BEGIN:DAYLIGHT
TZOFFSETFROM:-0500
TZOFFSETTO:-0400
TZNAME:EDT
DTSTART:20270314T070000
END:DAYLIGHT
BEGIN:STANDARD
TZOFFSETFROM:-0400
TZOFFSETTO:-0500
TZNAME:EST
DTSTART:20271107T060000
END:STANDARD
END:VTIMEZONE
BEGIN:VEVENT
DTSTART;TZID=America/New_York:20251108T090000
DTEND;TZID=America/New_York:20251109T160000
DTSTAMP:20260425T120451
CREATED:20250111T200444Z
LAST-MODIFIED:20251027T211455Z
UID:14891-1762592400-1762704000@carolinachiropractors.org
SUMMARY:CCA Level II (X-Ray) Certification
DESCRIPTION:2025 Didactic Class & Exams\nNote: All links to related information will open in a new tab/window.\nInstructor: Dr. Mark Davini\, DC\nBe sure you have completed all of the following prerequisites no later than November 1\, 2025:\n\nIf you have not done so already\, purchase our training program.\nSubmit your completed application\, supporting documents\, and application fee to the NC Board of Chiropractic Examiners.\n\nThis needs to be completed no later than no later than November 1\, 2025.\nAll of the items indicated are a requirement for board certification.\nThis must be completed and submitted directly to the NCBOCE by each applicant.\nClick here to visit the NCBOCE’s websites for further details and instructions.\n\n\n\n\nComplete all 38-hours of online learning via our online training platform.\n\nThis needs to be completed no later than no later than November 1\, 2025.\n\n\nAttend the 12-hour didactic class November 8 & 9 (6-hours each day)\n\n\nExams are proctored online by the NCBOCE and will be scheduled for each applicant following the successful completion of the above prerequisites. \n\nCarolina Chiropractors is recognized by the PACE program of the Federation of Chiropractic Licensing Boards.\n\n\n\n\n\n\n\n\n\n\n \n\n\n\n\n\n\n\n\n\n\n\n\n\n \n\n\n\n\n\n2025 Didactic Class & Exams\nNote: All links to related information will open in a new tab/window.\nInstructor: Dr. Mark Davini\, DC\nBe sure you have completed all of the following prerequisites no later than November 1\, 2025:\n\nIf you have not done so already\, purchase our training program.\nSubmit your completed application\, supporting documents\, and application fee to the NC Board of Chiropractic Examiners.\n\nThis needs to be completed no later than no later than November 1\, 2025.\nAll of the items indicated are a requirement for board certification.\nThis must be completed and submitted directly to the NCBOCE by each applicant.\nClick here to visit the NCBOCE’s websites for further details and instructions.\n\n\n\n\nComplete all 38-hours of online learning via our online training platform.\n\nThis needs to be completed no later than no later than November 1\, 2025.\n\n\nAttend the 12-hour didactic class November 8 & 9 (6-hours each day)\n\n\nExams are proctored online by the NCBOCE and will be scheduled for each applicant following the successful completion of the above prerequisites. \n\nCarolina Chiropractors is recognized by the PACE program of the Federation of Chiropractic Licensing Boards.\n\n\n\n\n\n\n\n\n\n\n \n\n\n\n\n\n\n\n\n\n\n\n\n\n \n\n\n\n\n\n2025 Didactic Class & Exams\nNote: All links to related information will open in a new tab/window.\nInstructor: Dr. Mark Davini\, DC\nBe sure you have completed all of the following prerequisites no later than November 1\, 2025:\n\nIf you have not done so already\, purchase our training program.\nSubmit your completed application\, supporting documents\, and application fee to the NC Board of Chiropractic Examiners.\n\nThis needs to be completed no later than no later than November 1\, 2025.\nAll of the items indicated are a requirement for board certification.\nThis must be completed and submitted directly to the NCBOCE by each applicant.\nClick here to visit the NCBOCE’s websites for further details and instructions.\n\n\n\n\nComplete all 38-hours of online learning via our online training platform.\n\nThis needs to be completed no later than no later than November 1\, 2025.\n\n\nAttend the 12-hour didactic class November 8 & 9 (6-hours each day)\n\n\nExams are proctored online by the NCBOCE and will be scheduled for each applicant following the successful completion of the above prerequisites. \n\nCarolina Chiropractors is recognized by the PACE program of the Federation of Chiropractic Licensing Boards.
URL:https://carolinachiropractors.org/course/cca-level-ii-x-ray-certification-2/
LOCATION:Holiday Inn Express Raleigh-Durham\, 1014 Airport Blvd\, Morrisville\, 27560\, United States
CATEGORIES:Events,Exam Dates,In-Person Classes,Training Courses
ATTACH;FMTTYPE=image/jpeg:https://carolinachiropractors.org/wp-content/uploads/2020/10/xrct.jpg
ORGANIZER;CN="Carolina Chiropractors":MAILTO:info@carolinachiropractors.org
END:VEVENT
BEGIN:VEVENT
DTSTART;TZID=America/New_York:20260227T120000
DTEND;TZID=America/New_York:20260227T180000
DTSTAMP:20260425T120451
CREATED:20260122T231848Z
LAST-MODIFIED:20260217T171742Z
UID:15231-1772193600-1772215200@carolinachiropractors.org
SUMMARY:CCA Level I Certification (Spring 2026)
DESCRIPTION:Spring 2026 Didactic Class & Exams\nNote: All links to related information will open in a new tab/window.\nInstructor: Dr. Andrew Jeter\nBe sure you have completed all of the following prerequisites no later than October  16\, 2025:\n\nIf you have not done so already\, purchase our training program.\n\nPlatinum Members receive one free annual enrollment to this course\, click here to request Platinum Member access.\n\n\n\n\nSubmit your completed application\, supporting documents\, and application fee to the NC Board of Chiropractic Examiners.\n\nThis needs to be completed no later than no later than October 16\, 2025.\nAll of the items indicated are a requirement for board certification.\nThis must be completed and submitted directly to the NCBOCE by each applicant.\nClick here to visit the NCBOCE’s websites for further details and instructions.\n\n\n\n\n\n\nComplete all 18-hours of online learning via our online training platform.\n\nThis needs to be completed no later than no later than October 23\, 2025.\nExams are proctored online by the NCBOCE and will be scheduled for each applicant following the successful completion of the above prerequisites.\n\n\n\n\n\n\nRSVP For February 27\, 2026 Didactic Class\nPlease enable JavaScript in your browser to complete this form.EligibilityPlease check below to indicate that you have completed each requirement.\n\nIf you have not yet completed these items\, please do so before submitting this registration form.NCBOCE Application (Required) *Confirm that you have submitted your application to the NC Board of Chiropractic Examiners for certification at https://ncchiroboard.com/certified-chiropractic-assistant/--\nPlease make sure you have completed this required step at the NCBOCE's website. This needs to be completed no later than 15-days prior to the exam (which is generally 7-14 days after the didactic class date). \nIf you have any questions or need assistance with the NCBOCE application\, please get in touch with them directly. See https://ncchiroboard.com/certified-chiropractic-assistant/ for details.Completed Online Coursework (Required) *I have completed all 18-hours of the online coursework 100%.I have not yet completed the coursework\, but I am certain I will finish no later than 1-day prior to the didactic class.Attending Classroom Session: *Friday\, February 27 from 12:00p to 6:00p in  Salisbury\, NCDetails for this classroom session can be found at https://carolinachiropractors.org/event-calendar/.\n\nContact InformationMost of the fields below are required\, please check carefully to avoid any misteps in exam preparation.This information will be used to maintain your education records\, and to confirm NCBOCE registration details for your exam. No information supplied on this form will be sold to\, or shared with\, any other party without your express prior consent. Name *FirstMiddleLastSuffixEmail *Phone *Address *Address Line 1Address Line 2City--- Select state ---AlabamaAlaskaArizonaArkansasCaliforniaColoradoConnecticutDelawareDistrict of ColumbiaFloridaGeorgiaHawaiiIdahoIllinoisIndianaIowaKansasKentuckyLouisianaMaineMarylandMassachusettsMichiganMinnesotaMississippiMissouriMontanaNebraskaNevadaNew HampshireNew JerseyNew MexicoNew YorkNorth CarolinaNorth DakotaOhioOklahomaOregonPennsylvaniaRhode IslandSouth CarolinaSouth DakotaTennesseeTexasUtahVermontVirginiaWashingtonWest VirginiaWisconsinWyomingStateZip CodePractice InformationPractice/DC Name *Carolina Chiropractors Membership *UnsureUnsureMemberNon-MemberPlease indicate if your employer is a member of Carolina Chiropractors.Submit  \n\nCarolina Chiropractors is recognized by the PACE program of the Federation of Chiropractic Licensing Boards.
URL:https://carolinachiropractors.org/course/cca-level-i-certification-spring-2026/
LOCATION:Country Club of Salisbury\, 747 Club Dr\, Salisbury\, 28144
CATEGORIES:Events,Exam Dates,In-Person Classes,Training Courses
ATTACH;FMTTYPE=image/jpeg:https://carolinachiropractors.org/wp-content/uploads/2022/05/Flyer_ca-cert-scaled-e1660358786819.jpg
ORGANIZER;CN="Carolina Chiropractors":MAILTO:info@carolinachiropractors.org
END:VEVENT
BEGIN:VEVENT
DTSTART;TZID=America/New_York:20260807T120000
DTEND;TZID=America/New_York:20260807T180000
DTSTAMP:20260425T120451
CREATED:20260408T183907Z
LAST-MODIFIED:20260408T183907Z
UID:15372-1786104000-1786125600@carolinachiropractors.org
SUMMARY:CCA Level I Certification (Summer 2026)
DESCRIPTION:Summer 2026 Didactic Class & Exams\nNote: All links to related information will open in a new tab/window.\nInstructor: Dr. Andrew Jeter\nBe sure you have completed all of the following prerequisites no later than August 1\, 2026:\n\nIf you have not done so already\, purchase our training program.\n\nPlatinum Members receive one free annual enrollment to this course\, click here to request Platinum Member access.\n\n\n\n\nSubmit your completed application\, supporting documents\, and application fee to the NC Board of Chiropractic Examiners.\n\nThis needs to be completed no later than no later than August 1\, 2026.\nAll of the items indicated are a requirement for board certification.\nThis must be completed and submitted directly to the NCBOCE by each applicant.\nClick here to visit the NCBOCE’s websites for further details and instructions.\n\n\n\n\n\n\nComplete all 18-hours of online learning via our online training platform.\n\nThis needs to be completed no later than no later than August 1\, 2026.\nExams are proctored online by the NCBOCE and will be scheduled for each applicant following the successful completion of the above prerequisites.\n\n\n\n\n\n\nCarolina Chiropractors is recognized by the PACE program of the Federation of Chiropractic Licensing Boards.
URL:https://carolinachiropractors.org/course/cca-level-i-certification-summer-2026/
LOCATION:Country Club of Salisbury\, 747 Club Dr\, Salisbury\, 28144
CATEGORIES:Events,Exam Dates,In-Person Classes,Training Courses
ATTACH;FMTTYPE=image/jpeg:https://carolinachiropractors.org/wp-content/uploads/2022/05/Flyer_ca-cert-scaled-e1660358786819.jpg
ORGANIZER;CN="Carolina Chiropractors":MAILTO:info@carolinachiropractors.org
END:VEVENT
BEGIN:VEVENT
DTSTART;TZID=America/New_York:20261114T090000
DTEND;TZID=America/New_York:20261115T160000
DTSTAMP:20260425T120451
CREATED:20260408T150612Z
LAST-MODIFIED:20260408T162415Z
UID:15238-1794646800-1794758400@carolinachiropractors.org
SUMMARY:CCA Level II (X-Ray) Certification
DESCRIPTION:2026 Didactic Class & Exams\nNote: All links to related information will open in a new tab/window.\nInstructor: Dr. Mark Davini\, DC\nBe sure you have completed all of the following prerequisites no later than November 1\, 2025:\n\nIf you have not done so already\, purchase our training program.\nSubmit your completed application\, supporting documents\, and application fee to the NC Board of Chiropractic Examiners.\n\nThis needs to be completed no later than no later than November 6\, 2026.\nAll of the items indicated are a requirement for board certification.\nThis must be completed and submitted directly to the NCBOCE by each applicant.\nClick here to visit the NCBOCE’s websites for further details and instructions.\n\n\n\n\nComplete all 38-hours of online learning via our online training platform.\n\nThis needs to be completed no later than no later than November 6\, 2026.\n\n\nAttend the 12-hour didactic class November 14 & 15 (6-hours each day)\n\n\nExams are proctored online by the NCBOCE and will be scheduled for each applicant following the successful completion of the above prerequisites. \n\nCarolina Chiropractors is recognized by the PACE program of the Federation of Chiropractic Licensing Boards.\n\n\n\n\n\n\n\n\n\n\n \n\n\n\n\n\n\n\n\n\n\n\n\n\n \n\n\n\n\n\n2026 Didactic Class & Exams\nNote: All links to related information will open in a new tab/window.\nInstructor: Dr. Mark Davini\, DC\nBe sure you have completed all of the following prerequisites no later than November 1\, 2025:\n\nIf you have not done so already\, purchase our training program.\nSubmit your completed application\, supporting documents\, and application fee to the NC Board of Chiropractic Examiners.\n\nThis needs to be completed no later than no later than November 6\, 2026.\nAll of the items indicated are a requirement for board certification.\nThis must be completed and submitted directly to the NCBOCE by each applicant.\nClick here to visit the NCBOCE’s websites for further details and instructions.\n\n\n\n\nComplete all 38-hours of online learning via our online training platform.\n\nThis needs to be completed no later than no later than November 6\, 2026.\n\n\nAttend the 12-hour didactic class November 14 & 15 (6-hours each day)\n\n\nExams are proctored online by the NCBOCE and will be scheduled for each applicant following the successful completion of the above prerequisites. \n\nCarolina Chiropractors is recognized by the PACE program of the Federation of Chiropractic Licensing Boards.\n\n\n\n\n\n\n\n\n\n\n \n\n\n\n\n\n\n\n\n\n\n\n\n\n \n\n\n\n\n\n2026 Didactic Class & Exams\nNote: All links to related information will open in a new tab/window.\nInstructor: Dr. Mark Davini\, DC\nBe sure you have completed all of the following prerequisites no later than November 1\, 2025:\n\nIf you have not done so already\, purchase our training program.\nSubmit your completed application\, supporting documents\, and application fee to the NC Board of Chiropractic Examiners.\n\nThis needs to be completed no later than no later than November 6\, 2026.\nAll of the items indicated are a requirement for board certification.\nThis must be completed and submitted directly to the NCBOCE by each applicant.\nClick here to visit the NCBOCE’s websites for further details and instructions.\n\n\n\n\nComplete all 38-hours of online learning via our online training platform.\n\nThis needs to be completed no later than no later than November 6\, 2026.\n\n\nAttend the 12-hour didactic class November 14 & 15 (6-hours each day)\n\n\nExams are proctored online by the NCBOCE and will be scheduled for each applicant following the successful completion of the above prerequisites. \n\nCarolina Chiropractors is recognized by the PACE program of the Federation of Chiropractic Licensing Boards.
URL:https://carolinachiropractors.org/course/cca-level-ii-x-ray-certification-3/
LOCATION:Staybridge Suites\, 1012 Airport Blvd.\, Morrisville\, 27560\, United States
CATEGORIES:Events,Exam Dates,In-Person Classes,Training Courses
ATTACH;FMTTYPE=image/jpeg:https://carolinachiropractors.org/wp-content/uploads/2020/10/xrct.jpg
ORGANIZER;CN="Carolina Chiropractors":MAILTO:info@carolinachiropractors.org
END:VEVENT
END:VCALENDAR