BEGIN:VCALENDAR
VERSION:2.0
PRODID:-//Carolina Chiropractors - ECPv6.15.16//NONSGML v1.0//EN
CALSCALE:GREGORIAN
METHOD:PUBLISH
X-WR-CALNAME:Carolina Chiropractors
X-ORIGINAL-URL:https://carolinachiropractors.org
X-WR-CALDESC:Events for Carolina Chiropractors
REFRESH-INTERVAL;VALUE=DURATION:PT1H
X-Robots-Tag:noindex
X-PUBLISHED-TTL:PT1H
BEGIN:VTIMEZONE
TZID:America/New_York
BEGIN:DAYLIGHT
TZOFFSETFROM:-0500
TZOFFSETTO:-0400
TZNAME:EDT
DTSTART:20210314T070000
END:DAYLIGHT
BEGIN:STANDARD
TZOFFSETFROM:-0400
TZOFFSETTO:-0500
TZNAME:EST
DTSTART:20211107T060000
END:STANDARD
BEGIN:DAYLIGHT
TZOFFSETFROM:-0500
TZOFFSETTO:-0400
TZNAME:EDT
DTSTART:20220313T070000
END:DAYLIGHT
BEGIN:STANDARD
TZOFFSETFROM:-0400
TZOFFSETTO:-0500
TZNAME:EST
DTSTART:20221106T060000
END:STANDARD
BEGIN:DAYLIGHT
TZOFFSETFROM:-0500
TZOFFSETTO:-0400
TZNAME:EDT
DTSTART:20230312T070000
END:DAYLIGHT
BEGIN:STANDARD
TZOFFSETFROM:-0400
TZOFFSETTO:-0500
TZNAME:EST
DTSTART:20231105T060000
END:STANDARD
END:VTIMEZONE
BEGIN:VEVENT
DTSTART;TZID=America/New_York:20221112T090000
DTEND;TZID=America/New_York:20221113T160000
DTSTAMP:20260421T102332
CREATED:20220813T025410Z
LAST-MODIFIED:20221004T192802Z
UID:13237-1668243600-1668355200@carolinachiropractors.org
SUMMARY:CCA Level II (X-Ray) Certification
DESCRIPTION:Fall 2022 Didactic Class & Exams\nNote: All links to related information will open in a new tab/window.\nBe sure you have completed all of the following prerequisites no later than October 28\, 2022:\n\nIf you have not done so already\, purchase our training program.\n\nPlatinum Members receive one free annual enrollment to this course\, click here to request Platinum Member access.\n\n\n\n  \n\nSubmit your completed application\, supporting documents\, and application fee to the NC Board of Chiropractic Examiners.\n\nThis needs to be completed no later than no later than October 28\, 2022. Click here to add this date to your calendar.\nAll of the items indicated are a requirement for board certification.\nThis must be completed and submitted directly to the NCBOCE by each applicant.\nClick here to visit the NCBOCE’s websites for further details and instructions.\n\n\n\n\nComplete all 38-hours of online learning via our online training platform.\n\nThis needs to be completed no later than no later than October 28\, 2022. Click here to add this date to your calendar.\n\n\n\n\nIf you have completed all of the above\, please register for the didactic class below. \nExams are proctored online by the NCBOCE and will be scheduled for each applicant following the successful completion of the above prerequisites. \nPlease enable JavaScript in your browser to complete this form.EligibilityPlease check to indicate that you have completed each requirement. If you have not yet completed these items\, please do so before submitting this registration form.NCBOCE Application *Submitted application at https://ncchiroboard.com/x-ray-technician/Provided any requested documents.Paid any relevant application fees.--\nAll of these items should be completed at the NCBOCE's website. This needs to be completed no later than October 28\, 2022 [ +cal ]. All of the items indicated are a requirement for board certification\, and must be provided directly to the NC Board of Chiropractic Examiners by each applicant. \n\nIf you have any questions or need assistance with the NCBOCE application\, please get in touch with them directly. See https://ncchiroboard.com/x-ray-technician/ for details.Completed Online Coursework *I have completed all 38-hours of the online coursework 100%.I have not yet completed the coursework\, but I am certain I will finish prior to October 28\, 2022.Attending Classroom Session: *Saturday-Sunday\, November 12-13 from 9:00a to 4:00p at Four Points by Sheraton Raleigh Durham AirportDetails for this classroom session can be found at https://carolinachiropractors.org/course/cca2-didactic-class-fall-2022/. Click here to add this date to your calendar. \n\nContact InformationName *FirstMiddleLastSuffixEmail *Phone *Address *Address Line 1Address Line 2City--- Select state ---AlabamaAlaskaArizonaArkansasCaliforniaColoradoConnecticutDelawareDistrict of ColumbiaFloridaGeorgiaHawaiiIdahoIllinoisIndianaIowaKansasKentuckyLouisianaMaineMarylandMassachusettsMichiganMinnesotaMississippiMissouriMontanaNebraskaNevadaNew HampshireNew JerseyNew MexicoNew YorkNorth CarolinaNorth DakotaOhioOklahomaOregonPennsylvaniaRhode IslandSouth CarolinaSouth DakotaTennesseeTexasUtahVermontVirginiaWashingtonWest VirginiaWisconsinWyomingStateZip CodePractice InformationCCA License No. *If you are unsure of your license number\, you may click here to look it up by your first/last name (link will open in a new tab/window).Practice/DC Name *Carolina Chiropractors Membership *UnsureUnsureMemberNon-MemberPlease indicate if your employer is a member of Carolina Chiropractors.Submit  \n\n\n\n\n\n\n\n\n\n \n\n\n\n\n\n\n\n\n\n\n\n\n\n \n\n\n\n\n\nFall 2022 Didactic Class & Exams\nNote: All links to related information will open in a new tab/window.\nBe sure you have completed all of the following prerequisites no later than October 28\, 2022:\n\nIf you have not done so already\, purchase our training program.\n\nPlatinum Members receive one free annual enrollment to this course\, click here to request Platinum Member access.\n\n\n\n  \n\nSubmit your completed application\, supporting documents\, and application fee to the NC Board of Chiropractic Examiners.\n\nThis needs to be completed no later than no later than October 28\, 2022. Click here to add this date to your calendar.\nAll of the items indicated are a requirement for board certification.\nThis must be completed and submitted directly to the NCBOCE by each applicant.\nClick here to visit the NCBOCE’s websites for further details and instructions.\n\n\n\n\nComplete all 38-hours of online learning via our online training platform.\n\nThis needs to be completed no later than no later than October 28\, 2022. Click here to add this date to your calendar.\n\n\n\n\nIf you have completed all of the above\, please register for the didactic class below. \nExams are proctored online by the NCBOCE and will be scheduled for each applicant following the successful completion of the above prerequisites. \nPlease enable JavaScript in your browser to complete this form.EligibilityPlease check to indicate that you have completed each requirement. If you have not yet completed these items\, please do so before submitting this registration form.NCBOCE Application *Submitted application at https://ncchiroboard.com/x-ray-technician/Provided any requested documents.Paid any relevant application fees.--\nAll of these items should be completed at the NCBOCE's website. This needs to be completed no later than October 28\, 2022 [ +cal ]. All of the items indicated are a requirement for board certification\, and must be provided directly to the NC Board of Chiropractic Examiners by each applicant. \n\nIf you have any questions or need assistance with the NCBOCE application\, please get in touch with them directly. See https://ncchiroboard.com/x-ray-technician/ for details.Completed Online Coursework *I have completed all 38-hours of the online coursework 100%.I have not yet completed the coursework\, but I am certain I will finish prior to October 28\, 2022.Attending Classroom Session: *Saturday-Sunday\, November 12-13 from 9:00a to 4:00p at Four Points by Sheraton Raleigh Durham AirportDetails for this classroom session can be found at https://carolinachiropractors.org/course/cca2-didactic-class-fall-2022/. Click here to add this date to your calendar. \n\nContact InformationName *FirstMiddleLastSuffixEmail *Phone *Address *Address Line 1Address Line 2City--- Select state ---AlabamaAlaskaArizonaArkansasCaliforniaColoradoConnecticutDelawareDistrict of ColumbiaFloridaGeorgiaHawaiiIdahoIllinoisIndianaIowaKansasKentuckyLouisianaMaineMarylandMassachusettsMichiganMinnesotaMississippiMissouriMontanaNebraskaNevadaNew HampshireNew JerseyNew MexicoNew YorkNorth CarolinaNorth DakotaOhioOklahomaOregonPennsylvaniaRhode IslandSouth CarolinaSouth DakotaTennesseeTexasUtahVermontVirginiaWashingtonWest VirginiaWisconsinWyomingStateZip CodePractice InformationCCA License No. *If you are unsure of your license number\, you may click here to look it up by your first/last name (link will open in a new tab/window).Practice/DC Name *Carolina Chiropractors Membership *UnsureUnsureMemberNon-MemberPlease indicate if your employer is a member of Carolina Chiropractors.Submit  \n\n\n\n\n\n\n\n\n\n \n\n\n\n\n\n\n\n\n\n\n\n\n\n \n\n\n\n\n\nFall 2022 Didactic Class & Exams\nNote: All links to related information will open in a new tab/window.\nBe sure you have completed all of the following prerequisites no later than October 28\, 2022:\n\nIf you have not done so already\, purchase our training program.\n\nPlatinum Members receive one free annual enrollment to this course\, click here to request Platinum Member access.\n\n\n\n  \n\nSubmit your completed application\, supporting documents\, and application fee to the NC Board of Chiropractic Examiners.\n\nThis needs to be completed no later than no later than October 28\, 2022. Click here to add this date to your calendar.\nAll of the items indicated are a requirement for board certification.\nThis must be completed and submitted directly to the NCBOCE by each applicant.\nClick here to visit the NCBOCE’s websites for further details and instructions.\n\n\n\n\nComplete all 38-hours of online learning via our online training platform.\n\nThis needs to be completed no later than no later than October 28\, 2022. Click here to add this date to your calendar.\n\n\n\n\nIf you have completed all of the above\, please register for the didactic class below. \nExams are proctored online by the NCBOCE and will be scheduled for each applicant following the successful completion of the above prerequisites. \nPlease enable JavaScript in your browser to complete this form.EligibilityPlease check to indicate that you have completed each requirement. If you have not yet completed these items\, please do so before submitting this registration form.NCBOCE Application *Submitted application at https://ncchiroboard.com/x-ray-technician/Provided any requested documents.Paid any relevant application fees.--\nAll of these items should be completed at the NCBOCE's website. This needs to be completed no later than October 28\, 2022 [ +cal ]. All of the items indicated are a requirement for board certification\, and must be provided directly to the NC Board of Chiropractic Examiners by each applicant. \n\nIf you have any questions or need assistance with the NCBOCE application\, please get in touch with them directly. See https://ncchiroboard.com/x-ray-technician/ for details.Completed Online Coursework *I have completed all 38-hours of the online coursework 100%.I have not yet completed the coursework\, but I am certain I will finish prior to October 28\, 2022.Attending Classroom Session: *Saturday-Sunday\, November 12-13 from 9:00a to 4:00p at Four Points by Sheraton Raleigh Durham AirportDetails for this classroom session can be found at https://carolinachiropractors.org/course/cca2-didactic-class-fall-2022/. Click here to add this date to your calendar. \n\nContact InformationName *FirstMiddleLastSuffixEmail *Phone *Address *Address Line 1Address Line 2City--- Select state ---AlabamaAlaskaArizonaArkansasCaliforniaColoradoConnecticutDelawareDistrict of ColumbiaFloridaGeorgiaHawaiiIdahoIllinoisIndianaIowaKansasKentuckyLouisianaMaineMarylandMassachusettsMichiganMinnesotaMississippiMissouriMontanaNebraskaNevadaNew HampshireNew JerseyNew MexicoNew YorkNorth CarolinaNorth DakotaOhioOklahomaOregonPennsylvaniaRhode IslandSouth CarolinaSouth DakotaTennesseeTexasUtahVermontVirginiaWashingtonWest VirginiaWisconsinWyomingStateZip CodePractice InformationCCA License No. *If you are unsure of your license number\, you may click here to look it up by your first/last name (link will open in a new tab/window).Practice/DC Name *Carolina Chiropractors Membership *UnsureUnsureMemberNon-MemberPlease indicate if your employer is a member of Carolina Chiropractors.Submit
URL:https://carolinachiropractors.org/course/cca2-didactic-class-fall-2022/
LOCATION:Four Points Sheraton at Raleigh-Durham Airport\, 1200 Claren Circle\, Morrisville\, NC\, 27560\, United States
CATEGORIES:Exam Dates,In-Person Classes,Training Courses
ATTACH;FMTTYPE=image/jpeg:https://carolinachiropractors.org/wp-content/uploads/2020/10/xrct.jpg
ORGANIZER;CN="Carolina Chiropractors":MAILTO:info@carolinachiropractors.org
END:VEVENT
END:VCALENDAR