BEGIN:VCALENDAR
VERSION:2.0
PRODID:-//Carolina Chiropractors - ECPv6.15.16//NONSGML v1.0//EN
CALSCALE:GREGORIAN
METHOD:PUBLISH
X-WR-CALNAME:Carolina Chiropractors
X-ORIGINAL-URL:https://carolinachiropractors.org
X-WR-CALDESC:Events for Carolina Chiropractors
REFRESH-INTERVAL;VALUE=DURATION:PT1H
X-Robots-Tag:noindex
X-PUBLISHED-TTL:PT1H
BEGIN:VTIMEZONE
TZID:America/New_York
BEGIN:DAYLIGHT
TZOFFSETFROM:-0500
TZOFFSETTO:-0400
TZNAME:EDT
DTSTART:20210314T070000
END:DAYLIGHT
BEGIN:STANDARD
TZOFFSETFROM:-0400
TZOFFSETTO:-0500
TZNAME:EST
DTSTART:20211107T060000
END:STANDARD
BEGIN:DAYLIGHT
TZOFFSETFROM:-0500
TZOFFSETTO:-0400
TZNAME:EDT
DTSTART:20220313T070000
END:DAYLIGHT
BEGIN:STANDARD
TZOFFSETFROM:-0400
TZOFFSETTO:-0500
TZNAME:EST
DTSTART:20221106T060000
END:STANDARD
BEGIN:DAYLIGHT
TZOFFSETFROM:-0500
TZOFFSETTO:-0400
TZNAME:EDT
DTSTART:20230312T070000
END:DAYLIGHT
BEGIN:STANDARD
TZOFFSETFROM:-0400
TZOFFSETTO:-0500
TZNAME:EST
DTSTART:20231105T060000
END:STANDARD
END:VTIMEZONE
BEGIN:VEVENT
DTSTART;TZID=America/New_York:20220409T090000
DTEND;TZID=America/New_York:20220410T160000
DTSTAMP:20260421T193311
CREATED:20220128T213513Z
LAST-MODIFIED:20230309T031810Z
UID:12985-1649494800-1649606400@carolinachiropractors.org
SUMMARY:X-Ray Certification Classroom Sessions (Spring 2022)
DESCRIPTION:Please RSVP below\nIndicate whether you will/will not be attending the classroom session on Saturday-Sunday. After your attendance has been verified on Friday\, the BOE will get in touch to schedule the online exam. \nLodging information\nThere is typically lodging available at the same location where we are holding the class itself. If you need to find other arrangements\, you can find the 5 most recommended hotels in the area here: https://www.tripadvisor.com/HotelsNear-g49463-qRDU-Raleigh_North_Carolina.html \n\n\n\n\n\n\n\n\n\n 
URL:https://carolinachiropractors.org/course/x-ray-certification-classroom-sessions-spring-2022/
LOCATION:Four Points Sheraton at Raleigh-Durham Airport\, 1200 Claren Circle\, Morrisville\, NC\, 27560\, United States
CATEGORIES:Exam Dates,In-Person Classes,Training Courses
ATTACH;FMTTYPE=image/jpeg:https://carolinachiropractors.org/wp-content/uploads/2020/10/xrct.jpg
ORGANIZER;CN="Carolina Chiropractors":MAILTO:info@carolinachiropractors.org
END:VEVENT
END:VCALENDAR