BEGIN:VCALENDAR
VERSION:2.0
PRODID:-//Carolina Chiropractors - ECPv6.15.16//NONSGML v1.0//EN
CALSCALE:GREGORIAN
METHOD:PUBLISH
X-ORIGINAL-URL:https://carolinachiropractors.org
X-WR-CALDESC:Events for Carolina Chiropractors
REFRESH-INTERVAL;VALUE=DURATION:PT1H
X-Robots-Tag:noindex
X-PUBLISHED-TTL:PT1H
BEGIN:VTIMEZONE
TZID:America/New_York
BEGIN:DAYLIGHT
TZOFFSETFROM:-0500
TZOFFSETTO:-0400
TZNAME:EDT
DTSTART:20210314T070000
END:DAYLIGHT
BEGIN:STANDARD
TZOFFSETFROM:-0400
TZOFFSETTO:-0500
TZNAME:EST
DTSTART:20211107T060000
END:STANDARD
BEGIN:DAYLIGHT
TZOFFSETFROM:-0500
TZOFFSETTO:-0400
TZNAME:EDT
DTSTART:20220313T070000
END:DAYLIGHT
BEGIN:STANDARD
TZOFFSETFROM:-0400
TZOFFSETTO:-0500
TZNAME:EST
DTSTART:20221106T060000
END:STANDARD
BEGIN:DAYLIGHT
TZOFFSETFROM:-0500
TZOFFSETTO:-0400
TZNAME:EDT
DTSTART:20230312T070000
END:DAYLIGHT
BEGIN:STANDARD
TZOFFSETFROM:-0400
TZOFFSETTO:-0500
TZNAME:EST
DTSTART:20231105T060000
END:STANDARD
END:VTIMEZONE
BEGIN:VEVENT
DTSTART;TZID=America/New_York:20220311T120000
DTEND;TZID=America/New_York:20220311T180000
DTSTAMP:20260421T211954
CREATED:20220128T213808Z
LAST-MODIFIED:20230309T031435Z
UID:12989-1647000000-1647021600@carolinachiropractors.org
SUMMARY:CCCA Didactic Class (Spring 2022)
DESCRIPTION:Please RSVP below\nIndicate whether you will/will not be attending Friday’s didactic classroom session. \nAfter your attendance has been verified on Friday\, the BOE will get in touch to schedule the online exam. \nLodging information\nYou can find the 5 most recommended hotels in the area here: https://www.tripadvisor.com/Hotels-g49507-Salisbury_North_Carolina-Hotels.html \n\n\n\n\n\n\n\n\n\n 
URL:https://carolinachiropractors.org/course/ccca-didactic-class-spring-22/
LOCATION:Country Club of Salisbury\, 747 Club Dr\, Salisbury\, 28144
CATEGORIES:Exam Dates,In-Person Classes,Training Courses
ATTACH;FMTTYPE=image/jpeg:https://carolinachiropractors.org/wp-content/uploads/2020/10/ccca.jpg
ORGANIZER;CN="Carolina Chiropractors":MAILTO:info@carolinachiropractors.org
END:VEVENT
END:VCALENDAR