BEGIN:VCALENDAR
VERSION:2.0
PRODID:-//Carolina Chiropractors - ECPv6.15.16//NONSGML v1.0//EN
CALSCALE:GREGORIAN
METHOD:PUBLISH
X-ORIGINAL-URL:https://carolinachiropractors.org
X-WR-CALDESC:Events for Carolina Chiropractors
REFRESH-INTERVAL;VALUE=DURATION:PT1H
X-Robots-Tag:noindex
X-PUBLISHED-TTL:PT1H
BEGIN:VTIMEZONE
TZID:America/New_York
BEGIN:DAYLIGHT
TZOFFSETFROM:-0500
TZOFFSETTO:-0400
TZNAME:EDT
DTSTART:20210314T070000
END:DAYLIGHT
BEGIN:STANDARD
TZOFFSETFROM:-0400
TZOFFSETTO:-0500
TZNAME:EST
DTSTART:20211107T060000
END:STANDARD
BEGIN:DAYLIGHT
TZOFFSETFROM:-0500
TZOFFSETTO:-0400
TZNAME:EDT
DTSTART:20220313T070000
END:DAYLIGHT
BEGIN:STANDARD
TZOFFSETFROM:-0400
TZOFFSETTO:-0500
TZNAME:EST
DTSTART:20221106T060000
END:STANDARD
BEGIN:DAYLIGHT
TZOFFSETFROM:-0500
TZOFFSETTO:-0400
TZNAME:EDT
DTSTART:20230312T070000
END:DAYLIGHT
BEGIN:STANDARD
TZOFFSETFROM:-0400
TZOFFSETTO:-0500
TZNAME:EST
DTSTART:20231105T060000
END:STANDARD
END:VTIMEZONE
BEGIN:VEVENT
DTSTART;TZID=America/New_York:20220124T183000
DTEND;TZID=America/New_York:20220124T193000
DTSTAMP:20260425T205105
CREATED:20220117T082921Z
LAST-MODIFIED:20220117T082921Z
UID:12956-1643049000-1643052600@carolinachiropractors.org
SUMMARY:Introduction to CCCA Level II (X-Ray Certification)
DESCRIPTION:Dr. Davini will be hosting five webinars this month to help ensure that you have everything you need to be prepared for this course and the X-Ray Certification exam. Attendance to one of these available dates is mandatory\, so please be sure you have choose a time that works for your schedule. For those of you that have already began the course sections\, the webinars will give you an opportunity to ask Dr. Davini any questions you may have. If you have not yet started taking the coursework\, this is designed to be an introduction to the course\, and a way to help you get prepared. \nBecause the x-ray certification process is longer and more technical than the process for getting your initial CA certification\, it is important that you provide ample time to fully absorb the materials\, and if you are having any particular challenges that you bring them to us so we can assist you in overcoming them. \nPlease enable JavaScript in your browser to complete this form.Contact InformationFirst Name *Last Name *Email *\nPrerequisitesIMPORTANT: In order to sit for the CCCA Level II/X-Ray certification exam\, the NCBOCE requires that you have already been certified as a CCA Level I. Please confirm the following: *I am currently a certified CCA.I have paid the enrollment fee for this training program.Still need to enroll? \nIf you have not already registered and paid for the CCCA Level II/X-Ray Certification training program\, please click here to be taken to our enrollment page to do so before registering for the webinar. Still need your CCA Level I certification? \nIf you are not already certified as a CCA Level I\, you will need to complete that program before you can sit for the CCCA Level II/X-Ray exam. \nIf you would like to register for the CCCA Level I certification program\, you can do so by clicking here. If you have any questions about this\, contact us at info@carolinachiropractors.org.\n Choose Your Webinar DateDr. Davini will be hosting five webinars this month to help ensure that you have everything you need to be prepared for this course and the X-Ray Certification exam. Attendance to one of these available dates is mandatory\, so please be sure you have choose a time that works for your schedule. For those of you that have already began the course sections\, the webinars will give you an opportunity to ask Dr. Davini any questions you may have. If you have not yet started taking the coursework\, this is designed to be an introduction to the course\, and a way to help you get prepared. \n\nBecause the x-ray certification process is longer and more technical than the process for getting your initial CA certification\, it is important that you provide ample time to fully absorb the materials\, and if you are having any particular challenges that you bring them to us so we can assist you in overcoming them. Choose A Date *Please choose an available date to attend.Jan 19\, 2022 4:00 PM ESTJan 20\, 2022 12:00 PM ESTJan 24\, 2022 6:30 PM ESTJan 28\, 2022 9:00 AM ESTJan 29\, 2022 9:00 AM ESTUse the link below to provide your details for the CCCA Level II/X-Ray Certification Introduction Webinar on Jan 19\, 2022 4:00 PM EST at:\n\nhttps://attendee.gotowebinar.com/register/8228406792958329104This link will open in a new window or tab\, simply close it when you are done to be brought back here. \nAfter registering\, you will receive a confirmation email containing information about joining the webinar.\nUse the link below to provide your details your registration for the CCCA Level II/X-Ray Certification Introduction Webinar on Jan 20\, 2022 12:00 PM EST at:\n\nhttps://attendee.gotowebinar.com/register/8720730716481122316This link will open in a new window or tab\, simply close it when you are done to be brought back here. \nAfter registering\, you will receive a confirmation email containing information about joining the webinar.Use the link below to provide your details your registration for the CCCA Level II/X-Ray Certification Introduction Webinar on Jan 24\, 2022 6:30 PM EST at:\n\nhttps://attendee.gotowebinar.com/register/955806977801472527\nThis link will open in a new window or tab\, simply close it when you are done to be brought back here. \nAfter registering\, you will receive a confirmation email containing information about joining the webinar.\nUse the link below to provide your details your registration for the CCCA Level II/X-Ray Certification Introduction Webinar on Jan 28\, 2022 9:00 AM EST at:\n\nhttps://attendee.gotowebinar.com/register/324107860830259467This link will open in a new window or tab\, simply close it when you are done to be brought back here. \nAfter registering\, you will receive a confirmation email containing information about joining the webinar.\nUse the link below to provide your details your registration for the CCCA Level II/X-Ray Certification Introduction Webinar on Jan 29\, 2022 9:00 AM EST at:\n\nhttps://attendee.gotowebinar.com/register/4585505967322647053This link will open in a new window or tab\, simply close it when you are done to be brought back here. \nAfter registering\, you will receive a confirmation email containing information about joining the webinar.\nDownload Documents & Complete Your RegistrationAfter clicking the button below to complete your registration\, follow the instructions to submit your details to Dr. Davini for the webinar\, after which you should receive all the information you need to attend by email. \nThe online course itself will be available at our online training platform. You will receive details on how to login and begin viewing the course materials after you have attended the webinar. \nIn the meantime\, there are a few course documents and resources that you will need to download\, we have provided links to these documents and resources here: \nNOTE: The links below will open a new tab/window. \n\n∙ X-Ray Training For CA's (.pdf file)\n∙ Daily Reference (.pdf file)\n∙ Chiropractic Radiologic Technology Study Guide NOTE: The ACRRT Study Guide is currently unavailable according their website. I will be sure that Dr. Davini is aware of this\, and will update this page and each of you individually if anything changes. \nWe appreciate your taking the time to register for this introductory webinar\, and very much support your efforts to earn your CCCA Level II! If you have any questions\, concerns\, or issues please don't hesitate to reach out to the online learning administrator Stephen Davis at sdavis@carolinachiropractors.org.Complete Registration
URL:https://carolinachiropractors.org/course/introduction-to-ccca-level-ii-x-ray-certification-3/
CATEGORIES:Intro Webinar,Training Courses
ORGANIZER;CN="Carolina Chiropractors":MAILTO:info@carolinachiropractors.org
LOCATION:https://carolinachiropractors.org/course/introduction-to-ccca-level-ii-x-ray-certification-3/
END:VEVENT
END:VCALENDAR