BEGIN:VCALENDAR
VERSION:2.0
PRODID:-//Carolina Chiropractors - ECPv6.15.16//NONSGML v1.0//EN
CALSCALE:GREGORIAN
METHOD:PUBLISH
X-WR-CALNAME:Carolina Chiropractors
X-ORIGINAL-URL:https://carolinachiropractors.org
X-WR-CALDESC:Events for Carolina Chiropractors
REFRESH-INTERVAL;VALUE=DURATION:PT1H
X-Robots-Tag:noindex
X-PUBLISHED-TTL:PT1H
BEGIN:VTIMEZONE
TZID:America/New_York
BEGIN:DAYLIGHT
TZOFFSETFROM:-0500
TZOFFSETTO:-0400
TZNAME:EDT
DTSTART:20210314T070000
END:DAYLIGHT
BEGIN:STANDARD
TZOFFSETFROM:-0400
TZOFFSETTO:-0500
TZNAME:EST
DTSTART:20211107T060000
END:STANDARD
BEGIN:DAYLIGHT
TZOFFSETFROM:-0500
TZOFFSETTO:-0400
TZNAME:EDT
DTSTART:20220313T070000
END:DAYLIGHT
BEGIN:STANDARD
TZOFFSETFROM:-0400
TZOFFSETTO:-0500
TZNAME:EST
DTSTART:20221106T060000
END:STANDARD
BEGIN:DAYLIGHT
TZOFFSETFROM:-0500
TZOFFSETTO:-0400
TZNAME:EDT
DTSTART:20230312T070000
END:DAYLIGHT
BEGIN:STANDARD
TZOFFSETFROM:-0400
TZOFFSETTO:-0500
TZNAME:EST
DTSTART:20231105T060000
END:STANDARD
END:VTIMEZONE
BEGIN:VEVENT
DTSTART;TZID=America/New_York:20221217T090000
DTEND;TZID=America/New_York:20221217T110000
DTSTAMP:20260425T102113
CREATED:20221205T225048Z
LAST-MODIFIED:20230309T031228Z
UID:14077-1671267600-1671274800@carolinachiropractors.org
SUMMARY:Immune Reboot: A Guide to Maximizing Immunity\, Restoring Gut Health\, and Optimizing Vitality
DESCRIPTION:In this new and incisive two-hour webinar\, Dr. Robert Silverman leads you through a review of how the immune system works and then into the latest developments for improving immunity. You’ll learn about practical steps for building better immunity\, the proven supplements that support immunity\, the crucial role of the gut in immunity\, how to fix gut problems to improve immunity\, and how to avoid autoimmune conditions\, all based on cutting-edge research. \nAdditional topics Dr. Silverman will cover in-depth include current options for lab assessments\, practical applications for patients with concussions\, emerging thoughts on brain health\, Alzheimer’s disease\, and SIBO\, and the newly emerging clinical problem of long COVID. \nJoin Dr. Silverman in this illuminating seminar and gain insight into a comprehensive methodology that incorporates proven protocols into a clinically integrated system—one that you can apply to your practice immediately. \nTopics to be covered: \n\nHow to recalibrate your lifestyle to bolster your immune system.\nWhy a healthy gut is essential for a healthy immune system.\nThe fundamental supplements for rejuvenating your immunity.\nHow to implement a 7(R) Action Plan to restore gut health.\nWhat autoimmunity is—and how to fend it off\n\n\nRobert G. Silverman\, DC\, DACBN\, DCBCN\, MS\, CCN\, CNS\, CSCS\, CIISN\, CKTP\, CES\, HKC\, FAKTR \nDr. Robert Silverman is a chiropractic doctor\, clinical nutritionist\, national/international speaker\, author of Amazon’s #1 bestseller “Inside-Out Health\,” founder and CEO of Westchester Integrative Health Ctr. He has an MSc. in human nutrition and five other designations in clinical nutrition. The ACA Sports Council named Dr. Silverman “Sports Chiropractor of the Year” in 2015. Dr. Silverman is on the advisory board for the Functional Medicine University and is a seasoned health and wellness expert on both the speaking circuits and the media. He is also a chief clinic consultant for KBMO Diagnostics and Erchonia laser LTD and holds a science board position with Nutri-Dyn. With over 23 years of clinical experience\, Dr. Silverman is a thought leader in his field and practice and a frequently published author in peer-reviewed journals and other mainstream publications. \nDr. Silverman was the principal investigator on a Level 1 laser FDA study. \nHis next book\, Immune Reboot\, is scheduled to be released in November 2022. \n— \nThis live webinar has been approved for 2-hours of continuing education by Life University\, and the NC Board of Chiropractic Examiners
URL:https://carolinachiropractors.org/course/immune-reboot-a-guide-to-maximizing-immunity-restoring-gut-health-and-optimizing-vitality/
LOCATION:https://carolinachiropractors.org/course/immune-reboot-a-guide-to-maximizing-immunity-restoring-gut-health-and-optimizing-vitality/
CATEGORIES:Events,Seminars
ATTACH;FMTTYPE=image/jpeg:https://carolinachiropractors.org/wp-content/uploads/2022/12/Youtube-Channel-Art.jpg
ORGANIZER;CN="Carolina Chiropractors":MAILTO:info@carolinachiropractors.org
END:VEVENT
END:VCALENDAR