BEGIN:VCALENDAR
VERSION:2.0
PRODID:-//Carolina Chiropractors - ECPv6.15.16//NONSGML v1.0//EN
CALSCALE:GREGORIAN
METHOD:PUBLISH
X-WR-CALNAME:Carolina Chiropractors
X-ORIGINAL-URL:https://carolinachiropractors.org
X-WR-CALDESC:Events for Carolina Chiropractors
REFRESH-INTERVAL;VALUE=DURATION:PT1H
X-Robots-Tag:noindex
X-PUBLISHED-TTL:PT1H
BEGIN:VTIMEZONE
TZID:America/New_York
BEGIN:DAYLIGHT
TZOFFSETFROM:-0500
TZOFFSETTO:-0400
TZNAME:EDT
DTSTART:20210314T070000
END:DAYLIGHT
BEGIN:STANDARD
TZOFFSETFROM:-0400
TZOFFSETTO:-0500
TZNAME:EST
DTSTART:20211107T060000
END:STANDARD
BEGIN:DAYLIGHT
TZOFFSETFROM:-0500
TZOFFSETTO:-0400
TZNAME:EDT
DTSTART:20220313T070000
END:DAYLIGHT
BEGIN:STANDARD
TZOFFSETFROM:-0400
TZOFFSETTO:-0500
TZNAME:EST
DTSTART:20221106T060000
END:STANDARD
BEGIN:DAYLIGHT
TZOFFSETFROM:-0500
TZOFFSETTO:-0400
TZNAME:EDT
DTSTART:20230312T070000
END:DAYLIGHT
BEGIN:STANDARD
TZOFFSETFROM:-0400
TZOFFSETTO:-0500
TZNAME:EST
DTSTART:20231105T060000
END:STANDARD
END:VTIMEZONE
BEGIN:VEVENT
DTSTART;TZID=America/New_York:20220402T080000
DTEND;TZID=America/New_York:20220402T170000
DTSTAMP:20260425T222722
CREATED:20220128T215355Z
LAST-MODIFIED:20230309T040921Z
UID:12993-1648886400-1648918800@carolinachiropractors.org
SUMMARY:Spring 2022 Convention
DESCRIPTION:Care Plan Recommendations and Patient Retention\nGain nuts and bolts information about presenting their care plan recommendations.\nJoin Dr. Miles Bodzin as he dives into State and Federal compliance issues regarding payment plans\, credit card auto-pay programs\, and discounts will be discussed. Immediately applicable\, these tools will help the office of today streamline the systems in their practice. Additionally\, the steps to creating legal & compliant care plans will be reviewed. Instruction will include creating a variety of plans that include cash and insurance. The importance of offering patients compliant care plans will be discussed which can help the doctor and patient reduce their dependence on insurance reimbursement. \n\nChiropractors of the Future w/Dr. Paul Tai\nTreating Major Aging Deficiencies with Practical Testing\, Diagnosis & Effective Natural Protocols for Mitochondria\, Hypothyroid\, Adrenal Fatigue & Weight Loss\nWe welcome back Dr. Paul Tai! With over 20% Of the population estimated to be over 65 by the year 2030\, we are now considered an ‘Aging Nation’. Clinics are over filled with patients suffering from Fatigue\, Weight Gain\, Brain Fog\, Pain\, Arthritis and other Debilitating Diseases such as Dementia and Memory Loss brought on by aging. With this high level of elderly people\, the need for chiropractic care to remain a functioning\, healthy society is at an all-time high to avoid the projected 63% of elderly that will need long-term care.  \nOur Hormones and Mitochondria are struggling to keep up with the demands of the body in a modern world full of environmental pollutants and lack of nutrition. That combined with genetics and lifestyle choices are  leading to poor aging\, weight gain and a myriad of pain conditions with underlying inflammation. As Chiropractic Physicians we are in constant demand to diagnose and treat these conditions in addition to musculoskeletal and nerve issues. Chiropractors’ ability to provide adjustment and relief to the body without the use of prescription drugs is an excellent base for non-invasive testing and non-addictive\, all-natural plant-based supplementation to prevent and reverse these abnormalities while promoting weight loss. \n\nConquering Financial Operations With Ease by Holly Jensen\n \nSpecial seminar just for CA’s! \nThe littlest inconveniences can jeopardize a financial report of findings and the patients’ success in the practice. Attendees will learn how to create compliant care plans combined with affordable payment options that patients say “YES” to — with or without insurance! This session includes how to communicate the patient’s financial responsibilities. Holly will role-play how to have a successful financial report of findings that avoids sales tactics or awkward financial conversations. \n\n  \nAll attending members will be entered for a drawing for a special giveaway!  |  Click Here For Details \n 
URL:https://carolinachiropractors.org/course/spring-2022-convention/
LOCATION:Hilton Garden Inn at Greensboro Airport\, 238 NC Highway 68 South\, Greensboro\, NC\, 27409\, United States
CATEGORIES:Conventions,Events,Seminars
ATTACH;FMTTYPE=image/jpeg:https://carolinachiropractors.org/wp-content/uploads/2022/01/22-04-02-Spring-2022-Convention-Flyer.jpg
ORGANIZER;CN="Carolina Chiropractors":MAILTO:info@carolinachiropractors.org
END:VEVENT
END:VCALENDAR